BEGIN:VCALENDAR
VERSION:2.0
PRODID:-//Lexus Velodrome - ECPv6.11.2.1//NONSGML v1.0//EN
CALSCALE:GREGORIAN
METHOD:PUBLISH
X-ORIGINAL-URL:http://lexusvelodrome.com
X-WR-CALDESC:Events for Lexus Velodrome
REFRESH-INTERVAL;VALUE=DURATION:PT1H
X-Robots-Tag:noindex
X-PUBLISHED-TTL:PT1H
BEGIN:VTIMEZONE
TZID:UTC
BEGIN:STANDARD
TZOFFSETFROM:+0000
TZOFFSETTO:+0000
TZNAME:UTC
DTSTART:20240101T000000
END:STANDARD
END:VTIMEZONE
BEGIN:VEVENT
DTSTART;TZID=UTC:20240622T120000
DTEND;TZID=UTC:20240622T140000
DTSTAMP:20260422T193831
CREATED:20240411T145727Z
LAST-MODIFIED:20240411T180714Z
UID:435-1719057600-1719064800@lexusvelodrome.com
SUMMARY:Hustle at the Dome
DESCRIPTION:Do the hustle! Join us Saturday\, June 22nd for the fourth installment of our new monthly event Hustle at the Dome with Thomasenia from Two Left Feet. All ages\, $5 admission or free for wider circle members. The Spoke Easy Bar will be open for refreshments.
URL:http://lexusvelodrome.com/event/hustle-at-the-dome-3/
LOCATION:Lexus Velodrome
CATEGORIES:Hustle Dance
ATTACH;FMTTYPE=image/jpeg:http://lexusvelodrome.com/wp-content/uploads/2024/03/hustlesquare-scaled.jpg
ORGANIZER;CN="Lexus Velodrome":MAILTO:admin@lexusvelodrome.com
END:VEVENT
BEGIN:VEVENT
DTSTART;TZID=UTC:20240511T120000
DTEND;TZID=UTC:20240511T140000
DTSTAMP:20260422T193831
CREATED:20240411T145403Z
LAST-MODIFIED:20240411T180145Z
UID:434-1715428800-1715436000@lexusvelodrome.com
SUMMARY:Hustle at the Dome
DESCRIPTION:Do the hustle! Join us Saturday\, May 11th for the third installment of our new monthly event Hustle at the Dome with Thomasenia from Two Left Feet. All ages\, $5 admission or free for wider circle members. The Spoke Easy Bar will be open for refreshments.
URL:http://lexusvelodrome.com/event/hustle-at-the-dome-2/
LOCATION:Lexus Velodrome
CATEGORIES:Hustle Dance
ATTACH;FMTTYPE=image/jpeg:http://lexusvelodrome.com/wp-content/uploads/2024/03/hustlesquare-scaled.jpg
ORGANIZER;CN="Lexus Velodrome":MAILTO:admin@lexusvelodrome.com
END:VEVENT
BEGIN:VEVENT
DTSTART;TZID=UTC:20240413T120000
DTEND;TZID=UTC:20240413T140000
DTSTAMP:20260422T193831
CREATED:20240410T200400Z
LAST-MODIFIED:20240411T175519Z
UID:433-1713009600-1713016800@lexusvelodrome.com
SUMMARY:Hustle at the Dome
DESCRIPTION:Do the hustle! Join us Saturday\, April 13th for the second installment of our new monthly event Hustle at the Dome with Thomasenia from Two Left Feet. All ages\, $5 admission or free for wider circle members. The Spoke Easy Bar will be open for refreshments.
URL:http://lexusvelodrome.com/event/hustle-at-the-dome/
LOCATION:Lexus Velodrome
CATEGORIES:Hustle Dance
ATTACH;FMTTYPE=image/jpeg:http://lexusvelodrome.com/wp-content/uploads/2024/03/hustlesquare-scaled.jpg
ORGANIZER;CN="Lexus Velodrome":MAILTO:admin@lexusvelodrome.com
END:VEVENT
END:VCALENDAR